BEGIN:VCALENDAR
VERSION:2.0
PRODID:-//PGIM
CALSCALE:GREGORIAN
METHOD:PUBLISH
X-WR-CALNAME:PGIM
X-ORIGINAL-URL:https://pgim.cmb.ac.lk/event/infectious-diseases-conference-2025/
X-WR-CALDESC:Infectious Diseases Conference 2025
BEGIN:VEVENT
DTSTART:20250612T000000
DTEND:20250613T000000
SUMMARY:Infectious Diseases Conference 2025
DESCRIPTION:
LOCATION:Ceylon College of Physicians
END:VEVENT
END:VCALENDAR
