BEGIN:VCALENDAR
VERSION:2.0
PRODID:-//PGIM
CALSCALE:GREGORIAN
METHOD:PUBLISH
X-WR-CALNAME:PGIM
X-ORIGINAL-URL:https://pgim.cmb.ac.lk/event/subspeciality-day-2025/
X-WR-CALDESC:Subspeciality Day 2025
BEGIN:VEVENT
DTSTART:20250525T000000
DTEND:
SUMMARY:Subspeciality Day 2025
DESCRIPTION:
LOCATION:Sri Lanka College of Ophthalmologists
END:VEVENT
END:VCALENDAR
