BEGIN:VCALENDAR
VERSION:2.0
PRODID:-//PGIM
CALSCALE:GREGORIAN
METHOD:PUBLISH
X-WR-CALNAME:PGIM
X-ORIGINAL-URL:https://pgim.cmb.ac.lk/event/annual-academic-sessions-2025/
X-WR-CALDESC:Annual Academic Sessions 2025
BEGIN:VEVENT
DTSTART:20250919T000000
DTEND:20250921T000000
SUMMARY:Annual Academic Sessions 2025
DESCRIPTION:
LOCATION:Sri Lanka College of Ophthalmologists
END:VEVENT
END:VCALENDAR
