BEGIN:VCALENDAR
VERSION:2.0
PRODID:-//PGIM
CALSCALE:GREGORIAN
METHOD:PUBLISH
X-WR-CALNAME:PGIM
X-ORIGINAL-URL:https://pgim.cmb.ac.lk/event/inter-medical-faculty-path-master-quiz/
X-WR-CALDESC:Inter Medical Faculty Path Master Quiz
BEGIN:VEVENT
DTSTART:20250701T000000
DTEND:20250902T000000
SUMMARY:Inter Medical Faculty Path Master Quiz
DESCRIPTION:
LOCATION:Sri Lanka College of Pathologists
END:VEVENT
END:VCALENDAR
