BEGIN:VCALENDAR
VERSION:2.0
PRODID:-//PGIM
CALSCALE:GREGORIAN
METHOD:PUBLISH
X-WR-CALNAME:PGIM
X-ORIGINAL-URL:https://pgim.cmb.ac.lk/event/dr-henry-rajaratnam-oration/
X-WR-CALDESC:Dr. Henry Rajaratnam Oration
BEGIN:VEVENT
DTSTART:20250613T000000
DTEND:20250613T000000
SUMMARY:Dr. Henry Rajaratnam Oration
DESCRIPTION:
LOCATION:Sri Lanka College of Endocrinologists
END:VEVENT
END:VCALENDAR
