BEGIN:VCALENDAR
VERSION:2.0
PRODID:-//PGIM
CALSCALE:GREGORIAN
METHOD:PUBLISH
X-WR-CALNAME:PGIM
X-ORIGINAL-URL:https://pgim.cmb.ac.lk/event/year-plan-2025-sri-lanka-college-of-endocrinologists/
X-WR-CALDESC:Year Plan 2025 – Sri Lanka College of Endocrinologists
BEGIN:VEVENT
DTSTART:
DTEND:
SUMMARY:Year Plan 2025 – Sri Lanka College of Endocrinologists
DESCRIPTION:
LOCATION:Sri Lanka College of Endocrinologists
END:VEVENT
END:VCALENDAR
