BEGIN:VCALENDAR
VERSION:2.0
PRODID:-//PGIM
CALSCALE:GREGORIAN
METHOD:PUBLISH
X-WR-CALNAME:PGIM
X-ORIGINAL-URL:https://pgim.cmb.ac.lk/event/live-demonstration-of-oncoplastic-breast-surgery/
X-WR-CALDESC:Live Demonstration of Oncoplastic Breast Surgery
BEGIN:VEVENT
DTSTART:20250524T000000
DTEND:20250524T000000
SUMMARY:Live Demonstration of Oncoplastic Breast Surgery
DESCRIPTION:
LOCATION:Sri Lanka College of Oncologists
END:VEVENT
END:VCALENDAR
