BEGIN:VCALENDAR
VERSION:2.0
PRODID:-//PGIM
CALSCALE:GREGORIAN
METHOD:PUBLISH
X-WR-CALNAME:PGIM
X-ORIGINAL-URL:https://pgim.cmb.ac.lk/event/42nd-annual-academic-congress/
X-WR-CALDESC:42nd Annual Academic Congress
BEGIN:VEVENT
DTSTART:20260130T000000
DTEND:20260201T000000
SUMMARY:42nd Annual Academic Congress
DESCRIPTION:
LOCATION:Sri Lanka College of Anesthetics & Intensivists
END:VEVENT
END:VCALENDAR
