BEGIN:VCALENDAR
VERSION:2.0
PRODID:-//PGIM
CALSCALE:GREGORIAN
METHOD:PUBLISH
X-WR-CALNAME:PGIM
X-ORIGINAL-URL:https://pgim.cmb.ac.lk/event/sri-lanka-college-of-pediatricians-webinar/
X-WR-CALDESC:Sri Lanka College of Pediatricians Webinar
BEGIN:VEVENT
DTSTART:20251008T000000
DTEND:20251008T000000
SUMMARY:Sri Lanka College of Pediatricians Webinar
DESCRIPTION:
LOCATION:Sri Lanka College of Pediatricians
END:VEVENT
END:VCALENDAR
