BEGIN:VCALENDAR
VERSION:2.0
PRODID:-//PGIM
CALSCALE:GREGORIAN
METHOD:PUBLISH
X-WR-CALNAME:PGIM
X-ORIGINAL-URL:https://pgim.cmb.ac.lk/event/md-part-i-in-pediatrics/
X-WR-CALDESC:MD Part I in Pediatrics
BEGIN:VEVENT
DTSTART:20251019T000000
DTEND:20251019T000000
SUMMARY:MD Part I in Pediatrics
DESCRIPTION:
LOCATION:Sri Lanka College of Pediatricians
END:VEVENT
END:VCALENDAR
