BEGIN:VCALENDAR
VERSION:2.0
PRODID:-//PGIM
CALSCALE:GREGORIAN
METHOD:PUBLISH
X-WR-CALNAME:PGIM
X-ORIGINAL-URL:https://pgim.cmb.ac.lk/event/slqa-2025-17th-annual-academic-sessions/
X-WR-CALDESC:SLQA 2025 – 17th Annual Academic Sessions
BEGIN:VEVENT
DTSTART:20251106T000000
DTEND:20251108T000000
SUMMARY:SLQA 2025 – 17th Annual Academic Sessions
DESCRIPTION:
LOCATION:Sri Lankan Orthopedic Association
END:VEVENT
END:VCALENDAR
