BEGIN:VCALENDAR
VERSION:2.0
PRODID:-//PGIM
CALSCALE:GREGORIAN
METHOD:PUBLISH
X-WR-CALNAME:PGIM
X-ORIGINAL-URL:https://pgim.cmb.ac.lk/event/aoa-foot-and-ankle-workshop/
X-WR-CALDESC:AOA Foot and Ankle Workshop
BEGIN:VEVENT
DTSTART:20251124T000000
DTEND:20251024T000000
SUMMARY:AOA Foot and Ankle Workshop
DESCRIPTION:
LOCATION:Sri Lankan Orthopedic Association
END:VEVENT
END:VCALENDAR
