BEGIN:VCALENDAR
VERSION:2.0
PRODID:-//PGIM
CALSCALE:GREGORIAN
METHOD:PUBLISH
X-WR-CALNAME:PGIM
X-ORIGINAL-URL:https://pgim.cmb.ac.lk/event/sri-lankan-college-of-cardiology/
X-WR-CALDESC:Sri Lankan College of Cardiology
BEGIN:VEVENT
DTSTART:20251015T000000
DTEND:20251015T000000
SUMMARY:Sri Lankan College of Cardiology
DESCRIPTION:
LOCATION:Sri Lanka College of Cardiologists
END:VEVENT
END:VCALENDAR
