BEGIN:VCALENDAR
VERSION:2.0
PRODID:-//PGIM
CALSCALE:GREGORIAN
METHOD:PUBLISH
X-WR-CALNAME:PGIM
X-ORIGINAL-URL:https://pgim.cmb.ac.lk/event/81st-national-trauma-management-course/
X-WR-CALDESC:81st National Trauma Management Course
BEGIN:VEVENT
DTSTART:
DTEND:
SUMMARY:81st National Trauma Management Course
DESCRIPTION:
LOCATION:
END:VEVENT
END:VCALENDAR
