BEGIN:VCALENDAR
VERSION:2.0
PRODID:-//PGIM
CALSCALE:GREGORIAN
METHOD:PUBLISH
X-WR-CALNAME:PGIM
X-ORIGINAL-URL:https://pgim.cmb.ac.lk/event/advanced-trauma-life-support-atls-course/
X-WR-CALDESC:Advanced trauma life support (ATLS) course
BEGIN:VEVENT
DTSTART:
DTEND:
SUMMARY:Advanced trauma life support (ATLS) course
DESCRIPTION:
LOCATION:The College of Surgeons Sri Lanka
END:VEVENT
END:VCALENDAR
