BEGIN:VCALENDAR
VERSION:2.0
PRODID:-//PGIM
CALSCALE:GREGORIAN
METHOD:PUBLISH
X-WR-CALNAME:PGIM
X-ORIGINAL-URL:https://pgim.cmb.ac.lk/event/40th-initial-trauma-care-for-nurses-itcn/
X-WR-CALDESC:40th Initial Trauma Care for Nurses (ITCN)
BEGIN:VEVENT
DTSTART:20260220T000000
DTEND:20260220T000000
SUMMARY:40th Initial Trauma Care for Nurses (ITCN)
DESCRIPTION:
LOCATION:
END:VEVENT
END:VCALENDAR
