BEGIN:VCALENDAR
VERSION:2.0
PRODID:-//PGIM
CALSCALE:GREGORIAN
METHOD:PUBLISH
X-WR-CALNAME:PGIM
X-ORIGINAL-URL:https://pgim.cmb.ac.lk/event/paediatric-basic-for-doctors/
X-WR-CALDESC:Paediatric Basic for Doctors
BEGIN:VEVENT
DTSTART:20260309T000000
DTEND:20260310T000000
SUMMARY:Paediatric Basic for Doctors
DESCRIPTION:
LOCATION:
END:VEVENT
END:VCALENDAR
