BEGIN:VCALENDAR
VERSION:2.0
PRODID:-//PGIM
CALSCALE:GREGORIAN
METHOD:PUBLISH
X-WR-CALNAME:PGIM
X-ORIGINAL-URL:https://pgim.cmb.ac.lk/event/monthly-research-meeting-hands-on-guidance-on-submitting-your-application-to-ercpgim-2/
X-WR-CALDESC:‘Principles of How to Write a Paper  &#038; How to Select a Journal’  By  Professor Janaka de Silva Director – PGIM
BEGIN:VEVENT
DTSTART:20190328T120000
DTEND:20190328T130000
SUMMARY:‘Principles of How to Write a Paper  &#038; How to Select a Journal’  By  Professor Janaka de Silva Director – PGIM
DESCRIPTION:
LOCATION:Postgraduate Institute of Medicine (PGIM)
END:VEVENT
END:VCALENDAR
