BEGIN:VCALENDAR
VERSION:2.0
PRODID:-//PGIM
CALSCALE:GREGORIAN
METHOD:PUBLISH
X-WR-CALNAME:PGIM
X-ORIGINAL-URL:https://pgim.cmb.ac.lk/event/trainer-training-programme-of-the-pgim/
X-WR-CALDESC:Trainer Training Programme of the PGIM -Schedules 2019
BEGIN:VEVENT
DTSTART:
DTEND:
SUMMARY:Trainer Training Programme of the PGIM -Schedules 2019
DESCRIPTION:
LOCATION:
END:VEVENT
END:VCALENDAR
