BEGIN:VCALENDAR
VERSION:2.0
PRODID:-//PGIM
CALSCALE:GREGORIAN
METHOD:PUBLISH
X-WR-CALNAME:PGIM
X-ORIGINAL-URL:https://pgim.cmb.ac.lk/event/security-measures-taken-under-the-prevailing-situation-of-the-country/
X-WR-CALDESC:Security measures taken under the prevailing situation of the country
BEGIN:VEVENT
DTSTART:
DTEND:
SUMMARY:Security measures taken under the prevailing situation of the country
DESCRIPTION:
LOCATION:
END:VEVENT
END:VCALENDAR
