BEGIN:VCALENDAR
VERSION:2.0
PRODID:-//PGIM
CALSCALE:GREGORIAN
METHOD:PUBLISH
X-WR-CALNAME:PGIM
X-ORIGINAL-URL:https://pgim.cmb.ac.lk/event/academic-activities-and-examinations-of-the-pgim-will-recommence-from-13th-may-2019/
X-WR-CALDESC:academic activities and examinations of the PGIM will recommence from 13th  May 2019.
BEGIN:VEVENT
DTSTART:
DTEND:
SUMMARY:academic activities and examinations of the PGIM will recommence from 13th  May 2019.
DESCRIPTION:
LOCATION:
END:VEVENT
END:VCALENDAR
