BEGIN:VCALENDAR
VERSION:2.0
PRODID:-//PGIM
CALSCALE:GREGORIAN
METHOD:PUBLISH
X-WR-CALNAME:PGIM
X-ORIGINAL-URL:https://pgim.cmb.ac.lk/event/important-notice/
X-WR-CALDESC:IMPORTANT NOTICE
BEGIN:VEVENT
DTSTART:
DTEND:
SUMMARY:IMPORTANT NOTICE
DESCRIPTION:
LOCATION:
END:VEVENT
END:VCALENDAR
