BEGIN:VCALENDAR
VERSION:2.0
PRODID:-//PGIM
CALSCALE:GREGORIAN
METHOD:PUBLISH
X-WR-CALNAME:PGIM
X-ORIGINAL-URL:https://pgim.cmb.ac.lk/event/monthly-research-meeting/
X-WR-CALDESC:Tips on writing your portfolio showcasing your learning by Dr. Pandula Siribaddana, Senior Lecturer-PGIM
BEGIN:VEVENT
DTSTART:20190704T120000
DTEND:20190704T130000
SUMMARY:Tips on writing your portfolio showcasing your learning by Dr. Pandula Siribaddana, Senior Lecturer-PGIM
DESCRIPTION:
LOCATION:Postgraduate Institute of Medicine (PGIM)
END:VEVENT
END:VCALENDAR
