BEGIN:VCALENDAR
VERSION:2.0
PRODID:-//PGIM
CALSCALE:GREGORIAN
METHOD:PUBLISH
X-WR-CALNAME:PGIM
X-ORIGINAL-URL:https://pgim.cmb.ac.lk/event/permission-of-entry-to-the-relevant-branches/
X-WR-CALDESC:Permission of Entry to the Relevant Branches
BEGIN:VEVENT
DTSTART:
DTEND:
SUMMARY:Permission of Entry to the Relevant Branches
DESCRIPTION:
LOCATION:
END:VEVENT
END:VCALENDAR
