BEGIN:VCALENDAR
VERSION:2.0
PRODID:-//PGIM
CALSCALE:GREGORIAN
METHOD:PUBLISH
X-WR-CALNAME:PGIM
X-ORIGINAL-URL:https://pgim.cmb.ac.lk/event/visit-to-royal-college-of-emergency-medicine-uk/
X-WR-CALDESC:Visit to Royal College of Emergency Medicine -UK
BEGIN:VEVENT
DTSTART:
DTEND:
SUMMARY:Visit to Royal College of Emergency Medicine -UK
DESCRIPTION:
LOCATION:
END:VEVENT
END:VCALENDAR
