BEGIN:VCALENDAR
VERSION:2.0
PRODID:-//PGIM
CALSCALE:GREGORIAN
METHOD:PUBLISH
X-WR-CALNAME:PGIM
X-ORIGINAL-URL:https://pgim.cmb.ac.lk/event/amendment-to-the-circular-70-2019sele-exam-in-md-sports-medicine-sep-2019/
X-WR-CALDESC:Amendment to the Circular 70/2019(Sele. Exam in MD (Sports Medicine) &#8211; Sep. 2019)
BEGIN:VEVENT
DTSTART:
DTEND:
SUMMARY:Amendment to the Circular 70/2019(Sele. Exam in MD (Sports Medicine) &#8211; Sep. 2019)
DESCRIPTION:
LOCATION:
END:VEVENT
END:VCALENDAR
